 
BEGIN:VCALENDAR
VERSION:2.0
PRODID:-//brudfjallsracet - ECPv6.0.10//NONSGML v1.0//EN
CALSCALE:GREGORIAN
METHOD:PUBLISH
X-WR-CALNAME:brudfjallsracet
X-ORIGINAL-URL:https://brudfjallsracet.se
X-WR-CALDESC:Events for brudfjallsracet
REFRESH-INTERVAL;VALUE=DURATION:PT1H
X-Robots-Tag:noindex
X-PUBLISHED-TTL:PT1H
BEGIN:VTIMEZONE
TZID:Europe/Stockholm
BEGIN:DAYLIGHT
TZOFFSETFROM:+0100
TZOFFSETTO:+0200
TZNAME:CEST
DTSTART:20230326T010000
END:DAYLIGHT
BEGIN:STANDARD
TZOFFSETFROM:+0200
TZOFFSETTO:+0100
TZNAME:CET
DTSTART:20231029T010000
END:STANDARD
TZID:Atlantic/Azores
BEGIN:DAYLIGHT
TZOFFSETFROM:-0100
TZOFFSETTO:+0000
TZNAME:+00
DTSTART:20210328T010000
END:DAYLIGHT
BEGIN:STANDARD
TZOFFSETFROM:+0000
TZOFFSETTO:-0100
TZNAME:-01
DTSTART:20211031T010000
END:STANDARD
BEGIN:DAYLIGHT
TZOFFSETFROM:-0100
TZOFFSETTO:+0000
TZNAME:+00
DTSTART:20220327T010000
END:DAYLIGHT
BEGIN:STANDARD
TZOFFSETFROM:+0000
TZOFFSETTO:-0100
TZNAME:-01
DTSTART:20221030T010000
END:STANDARD
END:VTIMEZONE
BEGIN:VEVENT
DTSTART;VALUE=DATE:20230513
DTEND;VALUE=DATE:20230514
DTSTAMP:20260424T175401
CREATED:20230104T122135Z
LAST-MODIFIED:20230228T085700Z
UID:47204-1683936000-1684022399@brudfjallsracet.se
SUMMARY:Brudfjällsracet 2023
DESCRIPTION:Nu är det dags att anmäla sig till Sveriges vackraste cykeltävling. Välj 41 eller 141 km utmanade cykling på kuperade vägar i det vackra Dalsland. Få bansträckningar erbjuder så mycket landskapsupplevelser som denna. Pricken över i blir att man mot slutet tar sig över bron i Håverud.  \n\nBRUDFJÄLLSRACET  13 Maj 2023\n\nVarmt välkomna till cykelfest i ett soligt och naturskönt Dalsland.\n\nBrudfjällsracet  – Långa Motion  94 km kl 10.00 \nBrudfjällsracet  – Korta Motion  47 km kl 10.00 \nHöljen runt – Motion 8 km kl 10.00 \nBrudfjällsracet MTB – inställt- Motion 42 km kl 13.00 \nAnmälningsavgift    \nBrudfjällsracet Långa\n350 kr tom 221231 | 525 kr tom 230331 | 695 kr tom 230507 \nBrudfjällsracet Korta\n300 kr tom 221231 | 425 kr tom 230331 | 595 kr tom 230507 \nHöljen runt \n150 kr tom 221231 | 250 kr tom 230331 | 395 kr tom 220307 \nBrudfjällsracet MTB – inställt\n300 kr tom 221231 | 425 kr tom 230331 | 595 kr tom 230507 \n  \nVälj  8\, 42\, 47 eller 94km utmanade cykling på kuperade vägar i det vackra Dalsland. Få bansträckningar erbjuder så mycket landskapsupplevelser som denna. Pricken över i blir att man mot slutet tar sig över bron i Håverud\, och därefter välförtjänt får njuta av en bit mat på Håferuds Brasseri som ingår i startavgiften.  \nTidtagning med chip  \nTidtagning med chip och mat från Brasseriet vid målgång. \nSaknar ni Swish och vill betala på något annat sätt maila oluf.skoogh@vattenfall.com
URL:https://brudfjallsracet.se/event/brudfjallsracet-2023/
END:VEVENT
BEGIN:VEVENT
DTSTART;VALUE=DATE:20220521
DTEND;VALUE=DATE:20220523
DTSTAMP:20260424T175401
CREATED:20230104T124613Z
LAST-MODIFIED:20230109T104714Z
UID:47214-1653091200-1653263999@brudfjallsracet.se
SUMMARY:Brudfjällsracet 2022
DESCRIPTION:BRUDFJÄLLSRACET  21-22 Maj 2022\n\n\nVarmt välkomna till cykelfest i ett soligt och naturskönt Dalsland.\n\n\n\n\n\nBrudfjällsracet  – Ultra Motion  141 km kl 10.00 \nBrudfjällsracet  – Långa Motion  94 km kl 10.00 \nBrudfjällsracet  – Korta Motion  47 km kl 10.15 \nDet finns även möjlighet att köra “Brudfjällsdubbeln” Brudfjällsracet Korta (lördag) & Brudfjällsracet MTB (söndag) \nAnmälningsavgift    \nBrudfjällsracet Ultra\n350 kr tom 211231 | 525 kr tom 220331 | 695 kr tom 220522 \nBrudfjällsracet Långa\n350 kr tom 211231 | 525 kr tom 220331 | 695 kr tom 220522 \nBrudfjällsracet Korta\n300 kr tom 211231 | 425 kr tom 220331 | 595 kr tom 220522 \nBrudfjällsdubbeln\n495 kr tom 211231 | 750 kr tom 220331 | 999 kr tom 220522 \nBrudfjällsracet MTB\n300 kr tom 211231 | 425 kr tom 220331 | 595 kr tom 220522 \n  \nVälj  47\, 94 eller 141 km utmanade cykling på kuperade vägar i det vackra Dalsland. Få bansträckningar erbjuder så mycket landskapsupplevelser som denna. Pricken över i blir att man mot slutet tar sig över bron i Håverud\, och därefter välförtjänt får njuta av en bit mat på Håferuds Brasseri som ingår i startavgiften.  \nTidtagning med chip 
URL:https://brudfjallsracet.se/event/brudfjallsracet-2022/
END:VEVENT
BEGIN:VEVENT
DTSTART;VALUE=DATE:20210619
DTEND;VALUE=DATE:20210621
DTSTAMP:20260424T175401
CREATED:20230104T115913Z
LAST-MODIFIED:20230109T104439Z
UID:47200-1624060800-1624233599@brudfjallsracet.se
SUMMARY:Brudfjällsracet 2021
DESCRIPTION:Nu är det dags att anmäla sig till Sveriges vackraste cykeltävling. Välj 41 eller 141 km utmanade cykling på kuperade vägar i det vackra Dalsland. Få bansträckningar erbjuder så mycket landskapsupplevelser som denna. Pricken över i blir att man mot slutet tar sig över bron i Håverud.  \nBrudfjällsracet Ultra – Motion – 141 km – kl 10.00 \nBrudfjällsracet Långa – Motion –  94 km – kl 10.00 \nBrudfjällsracet Korta – Motion –  47 km – kl 10.15 \nBrudfjällsracet MTB – Motion – 41 km – kl 10.00 – Söndag \nBrudfjällsdubbel – Motion – 47 / 41 km – Lördag / Söndag \nAnmälningsavgift (41 km/47 km/ 94 km / 141 km): \nBrudfjällsracet Ultra\n325 kr tom 201231 | 495 kr tom 210331 | 695 kr tom 210505 \nBrudfjällsracet Långa\n325 kr tom 201231 | 495 kr tom 210331 | 695 kr tom 210505 \nBrudfjällsracet Korta\n275 kr tom 201231 | 395 kr tom 210331 | 595 kr tom 210505 \nBrudfjällsdubbeln\n450 kr tom 201231 | 700 kr tom 210331 | 999 kr tom 2100505 \nBrudfjällsracet MTB\n275 kr tom 201231 | 395 kr tom 210331 | 595 kr tom 210505 \nTidtagning med chip och mat från Jessicas delikatesser vid målgång. \nSaknar ni Swish och vill betala på något annat sätt maila oluf.skoogh@vattenfall.com
URL:https://brudfjallsracet.se/event/brudfjallsracet-2021/
END:VEVENT
END:VCALENDAR